BEGIN:VCALENDAR
VERSION:2.0
PRODID:-//pretix//pretix.eu//
BEGIN:VTIMEZONE
TZID:Europe/Berlin
BEGIN:STANDARD
DTSTART:20001029T040000
RRULE:FREQ=YEARLY;BYDAY=-1SU;BYMONTH=10
TZNAME:CET
TZOFFSETFROM:+0200
TZOFFSETTO:+0100
END:STANDARD
BEGIN:DAYLIGHT
DTSTART:20000326T030000
RRULE:FREQ=YEARLY;BYDAY=-1SU;BYMONTH=3
TZNAME:CEST
TZOFFSETFROM:+0100
TZOFFSETTO:+0200
END:DAYLIGHT
END:VTIMEZONE
BEGIN:VEVENT
UID:pretix-zif-afh-fachtag-2025-0@veranstaltungen.autonome-frauenhaeuser-zi
 f.de
DTSTART;TZID=Europe/Berlin:20251111T090000
DTEND;TZID=Europe/Berlin:20251111T180000
DESCRIPTION:Tickets: https://veranstaltungen.autonome-frauenhaeuser-zif.de/
 fachtag-2025/\nVeranstalter: ZIF- Zentrale Informationsstelle Autonomer Fr
 auenhäuser
DTSTAMP:20260423T062408Z
LOCATION:Festsaal der Berliner Stadtmission\, Lehrter Str. 68\, 10557 Berli
 n
SUMMARY:Kindeswohl im Fokus?! Wie Rechtsruck\, Antifeminismus und Väterrec
 htler gewaltbetroffene Kinder und ihre Mütter gefährden.
END:VEVENT
END:VCALENDAR
